BEGIN:VCALENDAR
VERSION:2.0
PRODID:-//Society for Quality in Health Care in Nigeria - ECPv6.15.16.1//NONSGML v1.0//EN
CALSCALE:GREGORIAN
METHOD:PUBLISH
X-WR-CALNAME:Society for Quality in Health Care in Nigeria
X-ORIGINAL-URL:https://sqhn.org
X-WR-CALDESC:Events for Society for Quality in Health Care in Nigeria
REFRESH-INTERVAL;VALUE=DURATION:PT1H
X-Robots-Tag:noindex
X-PUBLISHED-TTL:PT1H
BEGIN:VTIMEZONE
TZID:Africa/Lagos
BEGIN:STANDARD
TZOFFSETFROM:+0100
TZOFFSETTO:+0100
TZNAME:WAT
DTSTART:20240101T000000
END:STANDARD
END:VTIMEZONE
BEGIN:VEVENT
DTSTART;TZID=Africa/Lagos:20250826T100000
DTEND;TZID=Africa/Lagos:20250826T170000
DTSTAMP:20260423T190154
CREATED:20250801T104610Z
LAST-MODIFIED:20250801T105019Z
UID:4459-1756202400-1756227600@sqhn.org
SUMMARY:The Art of Anticipation: Risk Management in Modern Healthcare
DESCRIPTION:🚨 WEBINAR ALERT 🚨 \nSQHN in collaboration with EHA Clinics presents:\n🎯 The Art of Anticipation: Risk Management in Modern Healthcare \nIn healthcare\, one missed risk can cost lives\, reputations\, and trust.\nBut what if your team could anticipate problems before they happen? 👀 \nThis webinar is not just another lecture\, it’s a strategic wake-up call for every healthcare leader\, clinician\, and administrator. \n🔍 What you’ll gain:\n🛡 Tools to prevent adverse events before they occur\n📊 Strategies for clinical & operational risk mitigation\n💡 Real-life case insights from leading healthcare experts\n🏥 Practical steps to build safer\, smarter healthcare systems\n📌 Guidance on meeting regulatory & accreditation standards \n🎓 Who should you attend?\n✔ Medical Directors\n✔ Quality & Risk Managers\n✔ Nurses\, Clinicians & Facility Leads\n✔ Anyone committed to safe\, accountable\, quality care \n📅 Date: [26th August\, 2025]\n🕒 Time: [10am]\n💳 Fee: [N20\,000]\n📍 Location: Virtual \n🎟 Secure your seat now: https://tinyurl.com/2p9nxka6\nBecause in modern healthcare\, those who anticipate… lead.
URL:https://sqhn.org/event/the-art-of-anticipation-risk-management-in-modern-healthcare/
CATEGORIES:Webinar
ATTACH;FMTTYPE=image/jpeg:https://sqhn.org/wp-content/uploads/2025/08/PHOTO-2025-08-01-10-02-03.jpg
LOCATION:
END:VEVENT
END:VCALENDAR