BEGIN:VCALENDAR
VERSION:2.0
PRODID:-//Society for Quality in Health Care in Nigeria - ECPv6.15.16.1//NONSGML v1.0//EN
CALSCALE:GREGORIAN
METHOD:PUBLISH
X-ORIGINAL-URL:https://sqhn.org
X-WR-CALDESC:Events for Society for Quality in Health Care in Nigeria
REFRESH-INTERVAL;VALUE=DURATION:PT1H
X-Robots-Tag:noindex
X-PUBLISHED-TTL:PT1H
BEGIN:VTIMEZONE
TZID:Africa/Lagos
BEGIN:STANDARD
TZOFFSETFROM:+0100
TZOFFSETTO:+0100
TZNAME:WAT
DTSTART:20220101T000000
END:STANDARD
END:VTIMEZONE
BEGIN:VEVENT
DTSTART;VALUE=DATE:20231013
DTEND;VALUE=DATE:20231014
DTSTAMP:20260423T172859
CREATED:20230901T184306Z
LAST-MODIFIED:20231006T124629Z
UID:4209-1697155200-1697241599@sqhn.org
SUMMARY:Medication Safety Workshop
DESCRIPTION:  \nMedication Safety Workshop.\nDate: 13th October 2023.\nTime: 10am\nWorkshop fees Member N10\,000\nNon Member– N15\,00 \n\n\n\n                \n                        \n                            Registration\n                        \n                        This field is hidden when viewing the formEventSurname*First Name*CompanyDesignationPhone numberEmail address*\n                            \n                        Member*\n			\n				\n				Yes\n			\n			\n				\n				No\n			\n          \n            \n            \n            \n            \n            \n            \n            \n            \n            \n            \n            \n            \n        \n                        Δ
URL:https://sqhn.org/event/medication-safety-workshop/
CATEGORIES:Conference
END:VEVENT
BEGIN:VEVENT
DTSTART;TZID=Africa/Lagos:20230927T100000
DTEND;TZID=Africa/Lagos:20230927T150000
DTSTAMP:20260423T172859
CREATED:20230828T104955Z
LAST-MODIFIED:20230828T104955Z
UID:4203-1695808800-1695826800@sqhn.org
SUMMARY:SQHN Annual Conference 2023
DESCRIPTION:  \nTheme: Regulatory Oversight of healthcare quality in West Africa. \nDate: 27th of September\, 2023.\nTime: 10am -3pm\nVenue: Landmark Event Centre\, Victoria Island Lagos. \n  \n\n\n                \n                        \n                            Registration\n                        \n                        This field is hidden when viewing the formEventSurname*First Name*CompanyDesignationPhone numberEmail address*\n                            \n                        Member*\n			\n				\n				Yes\n			\n			\n				\n				No\n			\n          \n            \n            \n            \n            \n            \n            \n            \n            \n            \n            \n            \n            \n        \n                        Δ
URL:https://sqhn.org/event/sqhn-annual-conference-2023/
CATEGORIES:Conference
END:VEVENT
BEGIN:VEVENT
DTSTART;VALUE=DATE:20230830
DTEND;VALUE=DATE:20230831
DTSTAMP:20260423T172859
CREATED:20230727T090216Z
LAST-MODIFIED:20230727T090216Z
UID:4154-1693353600-1693439999@sqhn.org
SUMMARY:Virtual Training on creating a positive customer experience service in the Healthcare Setting
DESCRIPTION:  \n \nDate: 30th Of August 2023 \nTime: 10am \nFee: Member N12\,500 Non- members N18\,750 \n\n\n                \n                        \n                            Registration\n                        \n                        This field is hidden when viewing the formEventSurname*First Name*CompanyDesignationPhone numberEmail address*\n                            \n                        Member*\n			\n				\n				Yes\n			\n			\n				\n				No\n			\n          \n            \n            \n            \n            \n            \n            \n            \n            \n            \n            \n            \n            \n        \n                        Δ
URL:https://sqhn.org/event/virtual-training-on-creating-a-positive-customer-experience-service-in-the-healthcare-setting-2/
CATEGORIES:Workshops
END:VEVENT
BEGIN:VEVENT
DTSTART;VALUE=DATE:20230817
DTEND;VALUE=DATE:20230818
DTSTAMP:20260423T172859
CREATED:20230801T105725Z
LAST-MODIFIED:20230801T105725Z
UID:4158-1692230400-1692316799@sqhn.org
SUMMARY:Online Laboratory Safety Workshop
DESCRIPTION:Date: 17th of August 2023\nTime: 10am\nMembers fee:N6\,250\nNon- Members:9\,375 \n\n\n                \n                        \n                            Registration\n                             \n                        \n                        This field is hidden when viewing the formEventSurname*First Name*CompanyDesignationPhone numberEmail address*\n                            \n                        Member*\n			\n				\n				Yes\n			\n			\n				\n				No\n			\n          \n            \n            \n            \n            \n            \n            \n            \n            \n            \n            \n            \n            \n        \n                        Δ
URL:https://sqhn.org/event/online-laboratory-safety-workshop/
CATEGORIES:Workshops
END:VEVENT
BEGIN:VEVENT
DTSTART;VALUE=DATE:20230717
DTEND;VALUE=DATE:20230718
DTSTAMP:20260423T172859
CREATED:20230710T091830Z
LAST-MODIFIED:20230710T092313Z
UID:4146-1689552000-1689638399@sqhn.org
SUMMARY:Advanced Course on Quality Improvement Tools .
DESCRIPTION:  \n \n  \nDate: 17th July\, 2023. \nTime: 10am \n\n\n                \n                        This field is hidden when viewing the formEventSurname*First Name*CompanyDesignationPhone numberEmail address*\n                            \n                        Member*\n			\n				\n				Yes\n			\n			\n				\n				No\n			\n          \n            \n            \n            \n            \n            \n            \n            \n            \n            \n            \n            \n            \n        \n                        Δ
URL:https://sqhn.org/event/advanced-course-on-quality-improvement-tools-10/
CATEGORIES:Workshops
END:VEVENT
BEGIN:VEVENT
DTSTART;VALUE=DATE:20230614
DTEND;VALUE=DATE:20230615
DTSTAMP:20260423T172859
CREATED:20230426T071803Z
LAST-MODIFIED:20230524T135355Z
UID:4125-1686700800-1686787199@sqhn.org
SUMMARY:Advanced Course on Quality Improvement Tools .
DESCRIPTION:  \n \n  \nDate: 14th June\, 2023. \nTime: 10am \n\n\n                \n                        This field is hidden when viewing the formEventSurname*First Name*CompanyDesignationPhone numberEmail address*\n                            \n                        Member*\n			\n				\n				Yes\n			\n			\n				\n				No\n			\n          \n            \n            \n            \n            \n            \n            \n            \n            \n            \n            \n            \n            \n        \n                        Δ
URL:https://sqhn.org/event/advanced-course-on-quality-improvement-tools-9/
CATEGORIES:Workshops
END:VEVENT
BEGIN:VEVENT
DTSTART;VALUE=DATE:20230518
DTEND;VALUE=DATE:20230520
DTSTAMP:20260423T172859
CREATED:20230426T072031Z
LAST-MODIFIED:20230426T072031Z
UID:4129-1684368000-1684540799@sqhn.org
SUMMARY:Certificate Course in Quality and Patient Safety (CIQPS)
DESCRIPTION:This field is hidden when viewing the formEventSurname*First Name*CompanyDesignationPhone numberEmail address*\n                            \n                        Member*\n			\n				\n				Yes\n			\n			\n				\n				No\n			\n          \n            \n            \n            \n            \n            \n            \n            \n            \n            \n            \n            \n            \n        \n                        Δ
URL:https://sqhn.org/event/certificate-course-in-quality-and-patient-safety-ciqps/
CATEGORIES:Workshops
END:VEVENT
BEGIN:VEVENT
DTSTART;VALUE=DATE:20230417
DTEND;VALUE=DATE:20230418
DTSTAMP:20260423T172859
CREATED:20230328T124938Z
LAST-MODIFIED:20230330T152228Z
UID:4113-1681689600-1681775999@sqhn.org
SUMMARY:Virtual Training on Creating a Positive Customer Experience Service in the Healthcare Setting
DESCRIPTION:Registration\n                        \n                        This field is hidden when viewing the formEventSurname*First Name*CompanyDesignationPhone numberEmail address*\n                            \n                        Member*\n			\n				\n				Yes\n			\n			\n				\n				No\n			\n          \n            \n            \n            \n            \n            \n            \n            \n            \n            \n            \n            \n            \n        \n                        Δ
URL:https://sqhn.org/event/virtual-training-on-creating-a-positive-customer-experience-service-in-the-healthcare-setting/
CATEGORIES:Workshops
END:VEVENT
BEGIN:VEVENT
DTSTART;VALUE=DATE:20230330
DTEND;VALUE=DATE:20230401
DTSTAMP:20260423T172859
CREATED:20230316T110110Z
LAST-MODIFIED:20230316T110110Z
UID:4108-1680134400-1680307199@sqhn.org
SUMMARY:6th Online Certification Course
DESCRIPTION:Registration\n                             \n                        \n                        This field is hidden when viewing the formEventSurname*First Name*CompanyDesignationPhone numberEmail address*\n                            \n                        Member*\n			\n				\n				Yes\n			\n			\n				\n				No\n			\n          \n            \n            \n            \n            \n            \n            \n            \n            \n            \n            \n            \n            \n        \n                        Δ
URL:https://sqhn.org/event/6th-online-certification-course/
CATEGORIES:Workshops
END:VEVENT
BEGIN:VEVENT
DTSTART;VALUE=DATE:20230228
DTEND;VALUE=DATE:20230301
DTSTAMP:20260423T172859
CREATED:20230208T091837Z
LAST-MODIFIED:20230208T092001Z
UID:4094-1677542400-1677628799@sqhn.org
SUMMARY:Advance Course on Quality Improvement Tools
DESCRIPTION:Register\n\n                \n                        This field is hidden when viewing the formEventSurname*First Name*CompanyDesignationPhone numberEmail address*\n                            \n                        Member*\n			\n				\n				Yes\n			\n			\n				\n				No\n			\n          \n            \n            \n            \n            \n            \n            \n            \n            \n            \n            \n            \n            \n        \n                        Δ
URL:https://sqhn.org/event/advance-course-on-quality-improvement-tools/
CATEGORIES:Workshops
END:VEVENT
BEGIN:VEVENT
DTSTART;VALUE=DATE:20230220
DTEND;VALUE=DATE:20230222
DTSTAMP:20260423T172859
CREATED:20230208T091627Z
LAST-MODIFIED:20230208T091747Z
UID:4086-1676851200-1677023999@sqhn.org
SUMMARY:Certificate Course in Quality and Patient Safety
DESCRIPTION:Register\n\n                \n                        This field is hidden when viewing the formEventSurname*First Name*CompanyDesignationPhone numberEmail address*\n                            \n                        Member*\n			\n				\n				Yes\n			\n			\n				\n				No\n			\n          \n            \n            \n            \n            \n            \n            \n            \n            \n            \n            \n            \n            \n        \n                        Δ
URL:https://sqhn.org/event/certificate-course-in-quality-and-patient-safety/
CATEGORIES:Workshops
END:VEVENT
BEGIN:VEVENT
DTSTART;VALUE=DATE:20230120
DTEND;VALUE=DATE:20230121
DTSTAMP:20260423T172859
CREATED:20230110T095506Z
LAST-MODIFIED:20230110T100613Z
UID:4073-1674172800-1674259199@sqhn.org
SUMMARY:Risk Management Online Certification
DESCRIPTION:Register\n\n                \n                        This field is hidden when viewing the formEventSurname*First Name*CompanyDesignationPhone numberEmail address*\n                            \n                        Member*\n			\n				\n				Yes\n			\n			\n				\n				No\n			\n          \n            \n            \n            \n            \n            \n            \n            \n            \n            \n            \n            \n            \n        \n                        Δ
URL:https://sqhn.org/event/risk-management-online-certification/
CATEGORIES:Workshops
END:VEVENT
END:VCALENDAR